BEGIN:VCALENDAR
VERSION:2.0
PRODID:-//West Hatch Village Hall - ECPv6.15.20//NONSGML v1.0//EN
CALSCALE:GREGORIAN
METHOD:PUBLISH
X-WR-CALNAME:West Hatch Village Hall
X-ORIGINAL-URL:https://whvh.co.uk
X-WR-CALDESC:Events for West Hatch Village Hall
REFRESH-INTERVAL;VALUE=DURATION:PT1H
X-Robots-Tag:noindex
X-PUBLISHED-TTL:PT1H
BEGIN:VTIMEZONE
TZID:Europe/London
BEGIN:DAYLIGHT
TZOFFSETFROM:+0000
TZOFFSETTO:+0100
TZNAME:BST
DTSTART:20250330T010000
END:DAYLIGHT
BEGIN:STANDARD
TZOFFSETFROM:+0100
TZOFFSETTO:+0000
TZNAME:GMT
DTSTART:20251026T010000
END:STANDARD
BEGIN:DAYLIGHT
TZOFFSETFROM:+0000
TZOFFSETTO:+0100
TZNAME:BST
DTSTART:20260329T010000
END:DAYLIGHT
BEGIN:STANDARD
TZOFFSETFROM:+0100
TZOFFSETTO:+0000
TZNAME:GMT
DTSTART:20261025T010000
END:STANDARD
BEGIN:DAYLIGHT
TZOFFSETFROM:+0000
TZOFFSETTO:+0100
TZNAME:BST
DTSTART:20270328T010000
END:DAYLIGHT
BEGIN:STANDARD
TZOFFSETFROM:+0100
TZOFFSETTO:+0000
TZNAME:GMT
DTSTART:20271031T010000
END:STANDARD
END:VTIMEZONE
BEGIN:VEVENT
DTSTART;TZID=Europe/London:20260420T104500
DTEND;TZID=Europe/London:20260420T120000
DTSTAMP:20260420T112940
CREATED:20260228T163149Z
LAST-MODIFIED:20260228T163149Z
UID:1090-1776681900-1776686400@whvh.co.uk
SUMMARY:Chair Yoga
DESCRIPTION:A gentle session designed for those with specific physical needs\, including post-operative recovery and maintaining mobility as we age.\nWhen: MondaysTime: 10.45 am – 12 noonInstructor: Ness Bourne
URL:https://whvh.co.uk/event/chair-yoga-7/
LOCATION:WHVH
CATEGORIES:Weekly Activities
ORGANIZER;CN="Margaret":MAILTO:msluck50@yahoo.com
END:VEVENT
BEGIN:VEVENT
DTSTART;TZID=Europe/London:20260420T123000
DTEND;TZID=Europe/London:20260420T133000
DTSTAMP:20260420T112940
CREATED:20260228T163149Z
LAST-MODIFIED:20260309T154649Z
UID:1112-1776688200-1776691800@whvh.co.uk
SUMMARY:Flow Yoga
DESCRIPTION:An active session followed by guided relaxation. Individual needs are catered for. \nWhen: MondaysTime: 12.30 – 1.30 pmInstructor: Becky England
URL:https://whvh.co.uk/event/flow-yoga-2-2/
LOCATION:WHVH
CATEGORIES:Weekly Activities
ORGANIZER;CN="Margaret":MAILTO:msluck50@yahoo.com
END:VEVENT
END:VCALENDAR